BEGIN:VCALENDAR
VERSION:2.0
PRODID:-//Agua de Hermosillo - ECPv6.15.17.1//NONSGML v1.0//EN
CALSCALE:GREGORIAN
METHOD:PUBLISH
X-ORIGINAL-URL:https://aguadehermosillo.gob.mx/aguah
X-WR-CALDESC:Eventos para Agua de Hermosillo
REFRESH-INTERVAL;VALUE=DURATION:PT1H
X-Robots-Tag:noindex
X-PUBLISHED-TTL:PT1H
BEGIN:VTIMEZONE
TZID:America/Hermosillo
BEGIN:STANDARD
TZOFFSETFROM:-0700
TZOFFSETTO:-0700
TZNAME:MST
DTSTART:20180101T000000
END:STANDARD
END:VTIMEZONE
BEGIN:VEVENT
DTSTART;TZID=America/Hermosillo:20191209T083000
DTEND;TZID=America/Hermosillo:20191213T140000
DTSTAMP:20260419T070044
CREATED:20191204T210058Z
LAST-MODIFIED:20191204T210058Z
UID:3244-1575880200-1576245600@aguadehermosillo.gob.mx
SUMMARY:Campaña de Regularización  2019
DESCRIPTION:Para mayor información de nuestros módulos haz click aquí.
URL:https://aguadehermosillo.gob.mx/aguah/evento/campana-de-regularizacion-2019/
LOCATION:Sonora
CATEGORIES:Jornadas
ATTACH;FMTTYPE=image/jpeg:https://aguadehermosillo.gob.mx/aguah/wp-content/uploads/2019/12/campaña-de-Regularizacion-2019.jpg
END:VEVENT
BEGIN:VEVENT
DTSTART;TZID=America/Hermosillo:20191214T080000
DTEND;TZID=America/Hermosillo:20191214T130000
DTSTAMP:20260419T070044
CREATED:20191204T223655Z
LAST-MODIFIED:20191204T223655Z
UID:3251-1576310400-1576328400@aguadehermosillo.gob.mx
SUMMARY:Campaña de Regularización  2019
DESCRIPTION:Para mayor información de nuestros módulos haz click aquí.
URL:https://aguadehermosillo.gob.mx/aguah/evento/campana-de-regularizacion-2019-2/
LOCATION:Agua de Hermosillo – Módulo Centro\, Agua de Hermosillo Modulo Centro LOC 10 Plaza Cine Sonora\, Hermosillo\, Sonora\, 83000\, Mexico
CATEGORIES:Jornadas
ATTACH;FMTTYPE=image/jpeg:https://aguadehermosillo.gob.mx/aguah/wp-content/uploads/2019/12/campaña-de-Regularizacion-2019.jpg
END:VEVENT
BEGIN:VEVENT
DTSTART;TZID=America/Hermosillo:20191216T083000
DTEND;TZID=America/Hermosillo:20191220T140000
DTSTAMP:20260419T070044
CREATED:20191204T210408Z
LAST-MODIFIED:20191204T223037Z
UID:3247-1576485000-1576850400@aguadehermosillo.gob.mx
SUMMARY:Campaña de Regularización  2019
DESCRIPTION:Para mayor información de nuestros módulos haz click aquí.
URL:https://aguadehermosillo.gob.mx/aguah/evento/campana-de-regularizacion-2019-1/
LOCATION:Sonora
CATEGORIES:Jornadas
ATTACH;FMTTYPE=image/jpeg:https://aguadehermosillo.gob.mx/aguah/wp-content/uploads/2019/12/campaña-de-Regularizacion-2019.jpg
END:VEVENT
END:VCALENDAR