BEGIN:VCALENDAR
VERSION:2.0
PRODID:-//Agua de Hermosillo - ECPv6.15.17.1//NONSGML v1.0//EN
CALSCALE:GREGORIAN
METHOD:PUBLISH
X-WR-CALNAME:Agua de Hermosillo
X-ORIGINAL-URL:https://aguadehermosillo.gob.mx/aguah
X-WR-CALDESC:Eventos para Agua de Hermosillo
REFRESH-INTERVAL;VALUE=DURATION:PT1H
X-Robots-Tag:noindex
X-PUBLISHED-TTL:PT1H
BEGIN:VTIMEZONE
TZID:America/Hermosillo
BEGIN:STANDARD
TZOFFSETFROM:-0700
TZOFFSETTO:-0700
TZNAME:MST
DTSTART:20190101T000000
END:STANDARD
END:VTIMEZONE
BEGIN:VEVENT
DTSTART;TZID=America/Hermosillo:20200116T083000
DTEND;TZID=America/Hermosillo:20200116T130000
DTSTAMP:20260419T082227
CREATED:20200113T183033Z
LAST-MODIFIED:20200114T182259Z
UID:3343-1579163400-1579179600@aguadehermosillo.gob.mx
SUMMARY:Jornada de Regularización Parque Real del Carmen
DESCRIPTION:
URL:https://aguadehermosillo.gob.mx/aguah/evento/jornada-real-del-carmen-20200116/
LOCATION:Parque Real del Carmen\, Avenida Manzanares & De Legazpi\, Hermosillo\, Son.\, Hermosillo\, Sonora\, 83287\, Mexico
CATEGORIES:Jornadas
ATTACH;FMTTYPE=image/jpeg:https://aguadehermosillo.gob.mx/aguah/wp-content/uploads/2020/01/WhatsApp-Image-2020-01-14-at-10.35.51-AM-1.jpeg
END:VEVENT
BEGIN:VEVENT
DTSTART;TZID=America/Hermosillo:20200117T083000
DTEND;TZID=America/Hermosillo:20200117T130000
DTSTAMP:20260419T082227
CREATED:20200113T180131Z
LAST-MODIFIED:20200114T182233Z
UID:3338-1579249800-1579266000@aguadehermosillo.gob.mx
SUMMARY:Jornada de Regularización Parque Copa Cabana
DESCRIPTION:
URL:https://aguadehermosillo.gob.mx/aguah/evento/jornada-copa-cabana-20200117/
LOCATION:Parque Copa Cabana\, Parque Copacabana\, Avenida Enrique Quijada\, Olivares\, Hermosillo\, Son.\, Hermosillo\, Sonora\, 83180\, Mexico
CATEGORIES:Jornadas
ATTACH;FMTTYPE=image/jpeg:https://aguadehermosillo.gob.mx/aguah/wp-content/uploads/2020/01/WhatsApp-Image-2020-01-14-at-10.35.51-AM-1.jpeg
END:VEVENT
BEGIN:VEVENT
DTSTART;TZID=America/Hermosillo:20200131T083000
DTEND;TZID=America/Hermosillo:20200131T140000
DTSTAMP:20260419T082227
CREATED:20200113T172237Z
LAST-MODIFIED:20200114T183202Z
UID:3333-1580459400-1580479200@aguadehermosillo.gob.mx
SUMMARY:Jornada de Regularización Módulo Progreso
DESCRIPTION:
URL:https://aguadehermosillo.gob.mx/aguah/evento/jornada-progreso-20200131/
LOCATION:Agua de Hermosillo – Módulo Progreso\, Agua de Hermosillo - Módulo Progreso\, Hermosillo\, Sonora\, 83116\, Mexico
CATEGORIES:Jornadas
ATTACH;FMTTYPE=image/jpeg:https://aguadehermosillo.gob.mx/aguah/wp-content/uploads/2020/01/WhatsApp-Image-2020-01-14-at-10.35.51-AM.jpeg
END:VEVENT
END:VCALENDAR